Workbook

Sheet БЖУ
B1: СОГЛАСОВАНО | G1: УТВЕРЖДАЮ:
A2: Директор | G2: Директор АУ "Комбинат питания"
A4: / _________ / ___________________ | G4: ___________________ | J4: М.В.Дудукина
A5: 19 | B5: октября | D5: 2026 г. | G5: 19 | H5: октября | K5: 2026 г.
A7: Примерное 10-ти дневное меню для школьного питания обучающихся
A9: № рецептуры | B9: Прием пищи, наименование | C9: Вес блюда / Суммарный объем блюд | D9: Пищевые вещества (г) | G9: Энергетическая ценность | H9: Вес блюда / Суммарный объем блюд | I9: Пищевые вещества (г) | L9: Энергетическая ценность
B10: блюда | G10: (ккал) | L10: (ккал)
D11: Б | E11: Ж | F11: У | I11: Б | J11: Ж | K11: У
C12: 1- 4 классы | H12: 5-11 классы
B13: ЗАВТРАК
A14: 183 | B14: Каша гречневая расыпчатая | C14: 155 | D14: 8.83 | E14: 5.66 | F14: 38.6 | G14: 260 | H14: 210 | I14: 11.9 | J14: 10.5 | K14: 51.68 | L14: 373.4
A15: 260 | B15: Гуляш из филе птицы | C15: 100 | D15: 24.5 | E15: 21 | F15: 6 | G15: 210 | H15: 115 | I15: 28.2 | J15: 25.7 | K15: 6.9 | L15: 241
A16: 300 | B16: Чай с сахаром | C16: 200 | D16: 0.2 | E16: 0 | F16: 9.1 | G16: 36 | H16: 200 | I16: 0.2 | J16: 0 | K16: 9.1 | L16: 36
A17: 1.5 | B17: Хлеб пшеничный | C17: 30 | D17: 2.4 | E17: 0.3 | F17: 14.5 | G17: 74 | H17: 30 | I17: 2.4 | J17: 0.3 | K17: 14.5 | L17: 74
B18: Выпечка в упаковке | C18: 65 | D18: 3.6 | E18: 9.6 | F18: 39 | G18: 204
B19: Сок фруктовый в потребительской упаковке | H19: 200 | I19: 1 | J19: 0 | K19: 24.4 | L19: 102
B20: ИТОГО: | C20: =SUM(C14:C19) -> 550 | D20: =SUM(D14:D19) -> 39.53 | E20: =SUM(E14:E19) -> 36.56 | F20: =SUM(F14:F19) -> 107.2 | G20: =SUM(G14:G19) -> 784 | H20: =SUM(H14:H19) -> 755 | I20: =SUM(I14:I19) -> 43.7 | J20: =SUM(J14:J19) -> 36.5 | ... L20: =SUM(L14:L19) -> 826.4
B21: ОБЕД
A22: 6 | B22: Салат из белокочанной капусты | C22: 60 | D22: 1.2 | E22: 3 | F22: 6.2 | G22: 59 | H22: 100 | I22: 2.1 | J22: 5 | K22: 10.3 | L22: 98
A23: 63 | B23: Суп картофельный с пшеном и птицей | C23: 258 | D23: 4.6 | E23: 4.6 | F23: 19.3 | G23: 143 | H23: 275 | I23: 9.1 | J23: 8.1 | K23: 19.4 | L23: 225
A24: 99 | B24: Биточки с соусом | C24: 120 | D24: 11.1 | E24: 11.5 | F24: 14.8 | G24: 210 | H24: 140 | I24: 13 | J24: 13 | K24: 17.3 | L24: 245
A25: 227 | B25: Макаронные изделия отварные | C25: 150 | D25: 5.42 | E25: 3.67 | F25: 33.33 | G25: 186 | H25: 180 | I25: 6.5 | J25: 4.4 | K25: 40 | L25: 233
A26: 310 | B26: Компот из смеси сухофруктов | C26: 200 | D26: 0.5 | E26: 0.1 | F26: 30.9 | G26: 123 | H26: 200 | I26: 0.5 | J26: 0.1 | K26: 30.9 | L26: 123
A27: 1.6 | B27: Хлеб ржано-пшеничный | C27: 60 | D27: 3.96 | E27: 0.72 | F27: 20 | G27: 116 | H27: 60 | I27: 3.96 | J27: 0.72 | K27: 20 | L27: 116
B28: ИТОГО: | C28: =SUM(C22:C27) -> 848 | D28: =SUM(D22:D27) -> 26.78 | E28: =SUM(E22:E27) -> 23.59 | F28: =SUM(F22:F27) -> 124.53 | G28: =SUM(G22:G27) -> 837 | H28: =SUM(H22:H27) -> 955 | I28: =SUM(I22:I27) -> 35.16 | J28: =SUM(J22:J27) -> 31.32 | ... L28: =SUM(L22:L27) -> 1040
B29: ОБЕД 2 ВАРИАНТ
A30: 6 | B30: Салат из белокочанной капусты | H30: 100 | I30: 2.1 | J30: 5 | K30: 10.3 | L30: 98
A31: 63 | B31: Суп картофельный с пшеном и птицей | H31: 275 | I31: 9.1 | J31: 8.1 | K31: 19.4 | L31: 225
A32: 99 | B32: Биточки с соусом | H32: 140 | I32: 13 | J32: 13 | K32: 17.3 | L32: 245
B33: Рис отварнной | H33: 180 | I33: 4.5 | J33: 7.2 | K33: 45.36 | L33: 272
A34: 310 | B34: Компот из смеси сухофруктов | H34: 200 | I34: 0.5 | J34: 0.1 | K34: 30.9 | L34: 123
A35: 1.6 | B35: Хлеб ржано-пшеничный | H35: 60 | I35: 3.96 | J35: 0.72 | K35: 20 | L35: 116
B36: ИТОГО: | H36: =SUM(H30:H35) -> 955 | I36: =SUM(I30:I35) -> 33.16 | J36: =SUM(J30:J35) -> 34.12 | K36: =SUM(K30:K35) -> 143.26 | L36: =SUM(L30:L35) -> 1079
B37: ПОЛДНИК
B38: Сок фруктовый | C38: 200 | D38: 1 | E38: 0 | F38: 24.4 | G38: 101.6
B39: Пряники | C39: 100 | D39: 5.5 | E39: 6 | F39: 69 | G39: 350
B40: ИТОГО: | C40: =C38+C39 -> 300 | D40: =SUM(D38:D39) -> 6.5 | E40: =SUM(E38:E39) -> 6 | F40: =SUM(F38:F39) -> 93.4 | G40: =SUM(G38:G39) -> 451.6
B41: День второй (вторник 1)
B42: ЗАВТРАК
B43: Бутерброд с сыром | C43: 35/22 | H43: 35/25
...

Sheet Потребн.
A1: Выполнение потребности в пищевых веществах и энергии на одного ребенка по примерному меню с 01.09.2023 г. (от 7 до 11 лет)
A2: Название пищевых веществ | B2: Суточная норма (100%), гр. | C2: Завтрак (20%), гр. | D2: Завтрак (25%), гр. | E2: Фактическ.выполнен. норм ( 20-25%) в среднем за день, гр | F2: Обед (30%), гр. | G2: Обед (35%), гр. | H2: Фактичес.выполнен.норм (30-35%) в среднем за день, гр | I2: Полдник (10%), гр | J2: Полдник (15%), гр | K2: Фактическ.выполнен. Норм ( 10-15%) в среднем за день, гр | L2: Завтрак, обед, полдник( 60%) | M2: Завтрак, обед, полдник 75%) | N2: Фактическ.выполнен. норм ( 60-75%) в среднем за день, гр
A5: Белки (г) | B5: 77 | C5: =B5*20/100 -> 15.4 | D5: =B5*25/100 -> 19.25 | E5: =БЖУ!D314 -> 0 | F5: =B5*30/100 -> 23.1 | G5: =B5*35/100 -> 26.95 | H5: =БЖУ!D329 -> 0 | I5: =B5*10/100 -> 7.7 | J5: =B5*15/100 -> 11.55 | K5: =БЖУ!D344 -> 0 | L5: =B5*60/100 -> 46.2 | M5: =B5*75/100 -> 57.75 | N5: =SUM(E5,H5,K5) -> 0
A6: Жиры (г) | B6: 79 | C6: =B6*20/100 -> 15.8 | D6: =B6*25/100 -> 19.75 | E6: =БЖУ!E314 -> 0 | F6: =B6*30/100 -> 23.7 | G6: =B6*35/100 -> 27.65 | H6: =БЖУ!E329 -> 0 | I6: =B6*10/100 -> 7.9 | J6: =B6*15/100 -> 11.85 | K6: =БЖУ!E344 -> 0 | L6: =B6*60/100 -> 47.4 | M6: =B6*75/100 -> 59.25 | N6: =SUM(E6,H6,K6) -> 0
A7: Углеводы (г) | B7: 335 | C7: =B7*20/100 -> 67 | D7: =B7*25/100 -> 83.75 | E7: =БЖУ!F314 -> 0 | F7: =B7*30/100 -> 100.5 | G7: =B7*35/100 -> 117.25 | H7: =БЖУ!F329 -> 0 | I7: =B7*10/100 -> 33.5 | J7: =B7*15/100 -> 50.25 | K7: =БЖУ!F344 -> 0 | L7: =B7*60/100 -> 201 | M7: =B7*75/100 -> 251.25 | N7: =SUM(E7,H7,K7) -> 0
A8: Энергет. Ценность (ккал) | B8: 2350 | C8: =B8*20/100 -> 470 | D8: =B8*25/100 -> 587.5 | E8: =БЖУ!G314 -> 0 | F8: =B8*30/100 -> 705 | G8: =B8*35/100 -> 822.5 | H8: =БЖУ!G329 -> 0 | I8: =B8*10/100 -> 235 | J8: =B8*15/100 -> 352.5 | K8: =БЖУ!G344 -> 0 | L8: =B8*60/100 -> 1410 | M8: =B8*75/100 -> 1762.5 | N8: =SUM(E8,H8,K8) -> 0
A9: Витамин С (мг) | B9: 60 | C9: =B9*20/100 -> 12 | D9: =B9*25/100 -> 15 | E9: =бжу!#REF! -> #VALUE! | F9: =B9*30/100 -> 18 | G9: =B9*35/100 -> 21 | H9: =бжу!#REF! -> #VALUE! | I9: =B9*10/100 -> 6 | J9: =B9*15/100 -> 9 | K9: =бжу!#REF! -> #VALUE! | L9: =B9*60/100 -> 36 | M9: =B9*75/100 -> 45 | N9: =SUM(E9,H9,K9) -> #VALUE!
A11: Выполнение потребности в пищевых веществах и энергии на одного ребенка по примерному меню с 01.09.2023 г. (от 12 лет и старше)
A12: Название пищевых веществ | B12: Суточная норма (100%), гр. | C12: Завтрак (20%), гр. | D12: Завтрак (25%), гр. | E12: Фактическ.выполнен. норм ( 20-25%) в среднем за день, гр | F12: Обед (30%), гр. | G12: Обед (35%), гр. | H12: Фактичес.выполнен.норм (30-35%) в среднем за день, гр | I12: Завтрак, обед ( 50%) | J12: Завтрак, обед (60%) | K12: Фактическ.выполнен. норм (50-60%) в среднем за день, гр
A15: Белки (г) | B15: 90 | C15: =B15*20/100 -> 18 | D15: =B15*25/100 -> 22.5 | E15: =БЖУ!I314 -> 0 | F15: =B15*30/100 -> 27 | G15: =B15*35/100 -> 31.5 | H15: =БЖУ!I329 -> 0 | I15: =B15*50/100 -> 45 | J15: =B15*60/100 -> 54 | K15: =SUM(E15,H15) -> 0
A16: Жиры (г) | B16: 92 | C16: =B16*20/100 -> 18.4 | D16: =B16*25/100 -> 23 | E16: =БЖУ!J314 -> 0 | F16: =B16*30/100 -> 27.6 | G16: =B16*35/100 -> 32.2 | H16: =БЖУ!J329 -> 0 | I16: =B16*50/100 -> 46 | J16: =B16*60/100 -> 55.2 | K16: =SUM(E16,H16) -> 0
A17: Углеводы (г) | B17: 383 | C17: =B17*20/100 -> 76.6 | D17: =B17*25/100 -> 95.75 | E17: =БЖУ!K314 -> 0 | F17: =B17*30/100 -> 114.9 | G17: =B17*35/100 -> 134.05 | H17: =БЖУ!K329 -> 0 | I17: =B17*50/100 -> 191.5 | J17: =B17*60/100 -> 229.8 | K17: =SUM(E17,H17) -> 0
A18: Энергет. Ценность (ккал) | B18: 2720 | C18: =B18*20/100 -> 544 | D18: =B18*25/100 -> 680 | E18: =БЖУ!L314 -> 0 | F18: =B18*30/100 -> 816 | G18: =B18*35/100 -> 952 | H18: =БЖУ!L329 -> 0 | I18: =B18*50/100 -> 1360 | J18: =B18*60/100 -> 1632 | K18: =SUM(E18,H18) -> 0
A19: Витамин С (мг) | B19: 70 | C19: =B19*20/100 -> 14 | D19: =B19*25/100 -> 17.5 | E19: =бжу!#REF! -> #VALUE! | F19: =B19*30/100 -> 21 | G19: =B19*35/100 -> 24.5 | H19: =бжу!#REF! -> #VALUE! | I19: =B19*50/100 -> 35 | J19: =B19*60/100 -> 42 | K19: =SUM(E19,H19) -> #VALUE!
A21: Технолог МП"КШП" | C21: _______________ | F21: Меняйкина М.В.
A23: Калькулятор МП "КШП" ______________ | F23: Бирюкова Н.Ю.

Sheet Лист1
