Workbook

Sheet БЖУ
B1: СОГЛАСОВАНО | G1: УТВЕРЖДАЮ:
A2: Директор | G2: Директор АУ "Комбинат питания"
A4: / _________ / ___________________ | G4: ___________________ | J4: М.В.Дудукина
A5: 19 | B5: октября | D5: 2026 г. | G5: 19 | H5: октября | K5: 2026 г.
A7: Примерное 10-ти дневное меню для школьного питания обучающихся
A9: № рецептуры | B9: Прием пищи, наименование | C9: Вес блюда / Суммарный объем блюд | D9: Пищевые вещества (г) | G9: Энергетическая ценность | H9: Вес блюда / Суммарный объем блюд | I9: Пищевые вещества (г) | L9: Энергетическая ценность
B10: блюда | G10: (ккал) | L10: (ккал)
D11: Б | E11: Ж | F11: У | I11: Б | J11: Ж | K11: У
C12: 1- 4 классы | H12: 5-11 классы
B13: ЗАВТРАК
A14: 183 | B14: Каша гречневая расыпчатая | C14: 155 | D14: 8.83 | E14: 5.66 | F14: 38.6 | G14: 260 | H14: 210 | I14: 11.9 | J14: 10.5 | K14: 51.68 | L14: 373.4
A15: 260 | B15: Гуляш из филе птицы | C15: 100 | D15: 24.5 | E15: 21 | F15: 6 | G15: 210 | H15: 115 | I15: 28.2 | J15: 25.7 | K15: 6.9 | L15: 241
A16: 300 | B16: Чай с сахаром | C16: 200 | D16: 0.2 | E16: 0 | F16: 9.1 | G16: 36 | H16: 200 | I16: 0.2 | J16: 0 | K16: 9.1 | L16: 36
A17: 1.5 | B17: Хлеб пшеничный | C17: 30 | D17: 2.4 | E17: 0.3 | F17: 14.5 | G17: 74 | H17: 30 | I17: 2.4 | J17: 0.3 | K17: 14.5 | L17: 74
B18: Выпечка в упаковке | C18: 65 | D18: 3.6 | E18: 9.6 | F18: 39 | G18: 204
B19: Сок фруктовый в потребительской упаковке | H19: 200 | I19: 1 | J19: 0 | K19: 24.4 | L19: 102
B20: ИТОГО: | C20: =SUM(C14:C19) -> 550 | D20: =SUM(D14:D19) -> 39.53 | E20: =SUM(E14:E19) -> 36.56 | F20: =SUM(F14:F19) -> 107.2 | G20: =SUM(G14:G19) -> 784 | H20: =SUM(H14:H19) -> 755 | I20: =SUM(I14:I19) -> 43.7 | J20: =SUM(J14:J19) -> 36.5 | ... L20: =SUM(L14:L19) -> 826.4
B21: ОБЕД
A22: 6 | B22: Салат из белокочанной капусты | C22: 60 | D22: 1.2 | E22: 3 | F22: 6.2 | G22: 59 | H22: 100 | I22: 2.1 | J22: 5 | K22: 10.3 | L22: 98
A23: 63 | B23: Суп картофельный с пшеном и птицей | C23: 258 | D23: 4.6 | E23: 4.6 | F23: 19.3 | G23: 143 | H23: 275 | I23: 9.1 | J23: 8.1 | K23: 19.4 | L23: 225
A24: 99 | B24: Биточки с соусом | C24: 120 | D24: 11.1 | E24: 11.5 | F24: 14.8 | G24: 210 | H24: 140 | I24: 13 | J24: 13 | K24: 17.3 | L24: 245
A25: 227 | B25: Макаронные изделия отварные | C25: 150 | D25: 5.42 | E25: 3.67 | F25: 33.33 | G25: 186 | H25: 180 | I25: 6.5 | J25: 4.4 | K25: 40 | L25: 233
A26: 310 | B26: Компот из смеси сухофруктов | C26: 200 | D26: 0.5 | E26: 0.1 | F26: 30.9 | G26: 123 | H26: 200 | I26: 0.5 | J26: 0.1 | K26: 30.9 | L26: 123
A27: 1.6 | B27: Хлеб ржано-пшеничный | C27: 60 | D27: 3.96 | E27: 0.72 | F27: 20 | G27: 116 | H27: 60 | I27: 3.96 | J27: 0.72 | K27: 20 | L27: 116
B28: ИТОГО: | C28: =SUM(C22:C27) -> 848 | D28: =SUM(D22:D27) -> 26.78 | E28: =SUM(E22:E27) -> 23.59 | F28: =SUM(F22:F27) -> 124.53 | G28: =SUM(G22:G27) -> 837 | H28: =SUM(H22:H27) -> 955 | I28: =SUM(I22:I27) -> 35.16 | J28: =SUM(J22:J27) -> 31.32 | ... L28: =SUM(L22:L27) -> 1040
B29: ОБЕД 2 ВАРИАНТ
A30: 6 | B30: Салат из белокочанной капусты | H30: 100 | I30: 2.1 | J30: 5 | K30: 10.3 | L30: 98
A31: 63 | B31: Суп картофельный с пшеном и птицей | H31: 275 | I31: 9.1 | J31: 8.1 | K31: 19.4 | L31: 225
A32: 99 | B32: Биточки с соусом | H32: 140 | I32: 13 | J32: 13 | K32: 17.3 | L32: 245
B33: Рис отварнной | H33: 180 | I33: 4.5 | J33: 7.2 | K33: 45.36 | L33: 272
A34: 310 | B34: Компот из смеси сухофруктов | H34: 200 | I34: 0.5 | J34: 0.1 | K34: 30.9 | L34: 123
A35: 1.6 | B35: Хлеб ржано-пшеничный | H35: 60 | I35: 3.96 | J35: 0.72 | K35: 20 | L35: 116
B36: ИТОГО: | H36: =SUM(H30:H35) -> 955 | I36: =SUM(I30:I35) -> 33.16 | J36: =SUM(J30:J35) -> 34.12 | K36: =SUM(K30:K35) -> 143.26 | L36: =SUM(L30:L35) -> 1079
B37: ПОЛДНИК
B38: Сок фруктовый | C38: 200 | D38: 1 | E38: 0 | F38: 24.4 | G38: 101.6
B39: Пряники | C39: 100 | D39: 5.5 | E39: 6 | F39: 69 | G39: 350
B40: ИТОГО: | C40: =C38+C39 -> 300 | D40: =SUM(D38:D39) -> 6.5 | E40: =SUM(E38:E39) -> 6 | F40: =SUM(F38:F39) -> 93.4 | G40: =SUM(G38:G39) -> 451.6
B41: День второй (вторник 1)
B42: ЗАВТРАК
B43: Бутерброд с сыром | C43: 35/22 | H43: 35/25
B44: Батон Нарезной | C44: 35 | D44: 2.6 | E44: 1 | F44: 17.8 | G44: 92.4 | H44: 35 | I44: 2.6 | J44: 1 | K44: 17.8 | L44: 92.4
B45: Сыр | C45: 22 | D45: 6 | E45: 7.4 | F45: 0.07 | G45: 91 | H45: 25 | I45: 7.5 | J45: 9.2 | K45: 0.09 | L45: 114
A46: 191 | B46: Каша вязкая молочная из рисовой крупы с маслом | C46: 155 | D46: 4.4 | E46: 6 | F46: 29.5 | G46: 192 | H46: 210 | I46: 5.9 | J46: 8.1 | K46: 40 | L46: 260
B47: Сок фруктовый в потребительской упаковке | C47: 200 | D47: 1 | E47: 0 | F47: 24.4 | G47: 102
A48: 300 | B48: Чай с сахаром | C48: 200 | D48: 0.2 | E48: 0 | F48: 9.1 | G48: 36 | H48: 200 | I48: 0.2 | J48: 0 | K48: 9.1 | L48: 36
B49: Йогурт молочный в потребительской упаковке | C49: 100 | D49: 2.7 | E49: 0.1 | F49: 16 | G49: 75 | H49: 100 | I49: 2.7 | J49: 0.1 | K49: 16 | L49: 75
B50: ИТОГО: | C50: =SUM(C44:C49) -> 712 | D50: =SUM(D44:D49) -> 16.9 | E50: =SUM(E44:E49) -> 14.5 | F50: =SUM(F44:F49) -> 96.87 | G50: =SUM(G44:G49) -> 588.4 | H50: =SUM(H44:H49) -> 570 | I50: =SUM(I44:I49) -> 18.9 | J50: =SUM(J44:J49) -> 18.4 | ... L50: =SUM(L44:L49) -> 577.4
B51: ОБЕД
A52: 47 | B52: Икра свекольная | C52: 60 | D52: 1.1 | E52: 4.8 | F52: 5.9 | G52: 73 | H52: 100 | I52: 1.8 | J52: 7.9 | K52: 9.9 | L52: 122
A53: 55 | B53: Щи из свежей капусты со сметаной и говядиной | H53: 275 | I53: 9 | J53: 11.8 | K53: 8.8 | L53: 182
A54: 55 | B54: Щи из свежей капусты со сметаной | C54: 250 | D54: 2 | E54: 6.2 | F54: 8.8 | G54: 103
A55: 136 | B55: Котлета из птицы с маслом | C55: 105 | D55: 15.9 | E55: 22.9 | F55: 16 | G55: 337 | H55: 105 | I55: 15.9 | J55: 22.9 | K55: 16 | L55: 337
A56: 146 | B56: Картофельное пюре | C56: 150 | D56: 3.08 | E56: 4.8 | F56: 20.03 | G56: 141 | H56: 180 | I56: 3.69 | J56: 5.76 | K56: 24.03 | L56: 169
A57: 324 | B57: Кисель | C57: 200 | D57: 0 | E57: 0 | F57: 20 | G57: 76 | H57: 200 | I57: 0 | J57: 0 | K57: 20 | L57: 76
A58: 1.6 | B58: Хлеб ржано-пшеничный | C58: 60 | D58: 3.96 | E58: 0.72 | F58: 20 | G58: 116 | H58: 60 | I58: 3.96 | J58: 0.72 | K58: 20 | L58: 116
B59: ИТОГО: | C59: =SUM(C52:C58) -> 825 | D59: =SUM(D52:D58) -> 26.04 | E59: =SUM(E52:E58) -> 39.42 | F59: =SUM(F52:F58) -> 90.73 | G59: =SUM(G52:G58) -> 846 | H59: =SUM(H52:H58) -> 920 | I59: =SUM(I52:I58) -> 34.35 | J59: =SUM(J52:J58) -> 49.08 | ... L59: =SUM(L52:L58) -> 1002
B60: ОБЕД 2 ВАРИАНТ
A61: 47 | B61: Икра свекольная | H61: 100 | I61: 1.8 | J61: 7.9 | K61: 9.9 | L61: 122
A62: 55 | B62: Щи из свежей капусты со сметаной и говядиной | H62: 275 | I62: 9 | J62: 11.8 | K62: 8.8 | L62: 182
A63: 136 | B63: Котлета из птицы с маслом | H63: 105 | I63: 15.9 | J63: 22.9 | K63: 16 | L63: 337
A64: 227 | B64: Макаронные изделия отварные | H64: 180 | I64: 6.5 | J64: 4.4 | K64: 40 | L64: 233
A65: 324 | B65: Кисель | H65: 200 | I65: 0 | J65: 0 | K65: 20 | L65: 76
A66: 1.6 | B66: Хлеб ржано-пшеничный | H66: 60 | I66: 3.96 | J66: 0.72 | K66: 20 | L66: 116
B67: ИТОГО: | H67: =SUM(H61:H66) -> 920 | I67: =SUM(I61:I66) -> 37.16 | J67: =SUM(J61:J66) -> 47.72 | K67: =SUM(K61:K66) -> 114.7 | L67: =SUM(L61:L66) -> 1066
B68: ПОЛДНИК
B69: Вафли | C69: 100 | D69: 3.5 | E69: 25 | F69: 69 | G69: 520
A70: 300 | B70: Чай с сахаром | C70: 200 | D70: 0.2 | E70: 0 | F70: 9.1 | G70: 36
B71: ИТОГО: | C71: =C69+C70 -> 300 | D71: =SUM(D69:D70) -> 3.7 | E71: =SUM(E69:E70) -> 25 | F71: =SUM(F69:F70) -> 78.1 | G71: =SUM(G69:G70) -> 556
B72: День третий (среда 1)
B73: ЗАВТРАК
A74: 208 | B74: Каша пшенная молочная вязкая с маслом | C74: 155 | D74: 5.6 | E74: 6.9 | F74: 25.1 | G74: 187 | H74: 210 | I74: 7.6 | J74: 9.3 | K74: 34 | L74: 253
A75: 239 | B75: Запеканка из творога с сгущенным молоком | C75: 140 | D75: 22.8 | E75: 16.7 | F75: 29.2 | G75: 360 | H75: 160 | I75: 26.1 | J75: 19.1 | K75: 33.4 | L75: 412
A76: 304 | B76: Кофейный напиток с молоком | C76: 200 | D76: 3 | E76: 2.8 | F76: 16.6 | G76: 101 | H76: 200 | I76: 3 | J76: 2.8 | K76: 16.6 | L76: 101
A77: 1.5 | B77: Хлеб пшеничый | C77: 30 | D77: 2.4 | E77: 0.3 | F77: 14.5 | G77: 74 | H77: 30 | I77: 2.4 | J77: 0.3 | K77: 14.5 | L77: 74
B78: Пряники | C78: 65 | D78: 3.4 | E78: 3 | F78: 45.8 | G78: 217
B79: ИТОГО: | C79: =SUM(C74:C78) -> 590 | D79: =SUM(D74:D78) -> 37.2 | E79: =SUM(E74:E78) -> 29.7 | F79: =SUM(F74:F78) -> 131.2 | G79: =SUM(G74:G78) -> 939 | H79: =SUM(H74:H78) -> 600 | I79: =SUM(I74:I78) -> 39.1 | J79: =SUM(J74:J78) -> 31.5 | ... L79: =SUM(L74:L78) -> 840
B80: ОБЕД
A81: 42 | B81: Винегрет овощной | C81: 60 | D81: 0.8 | E81: 1.5 | F81: 4.6 | G81: 38 | H81: 100 | I81: 1.3 | J81: 2.6 | K81: 7.6 | L81: 63
A82: 64 | B82: Суп с клецками | C82: 250 | D82: 2.6 | E82: 2.7 | F82: 15.8 | G82: 102
A83: 64 | B83: Суп с клецками и говядиной | H83: 270 | I83: 7.8 | J83: 6.1 | K83: 15.8 | L83: 153.4
A84: 83 | B84: Котлета из трески с маслом | C84: 95 | D84: 14 | E84: 14.2 | F84: 13.5 | G84: 240 | H84: 95 | I84: 14 | J84: 14.2 | K84: 13.5 | L84: 240
A85: 178 | B85: Гороховое пюре | C85: 150 | D85: 15.08 | E85: 4.92 | F85: 35.42 | G85: 265 | H85: 180 | I85: 18.1 | J85: 5.9 | K85: 42.5 | L85: 318
A86: 300 | B86: Чай с сахаром | C86: 200 | D86: 0.2 | E86: 0 | F86: 9.1 | G86: 36 | H86: 200 | I86: 0.2 | J86: 0 | K86: 9.1 | L86: 36
A87: 1.6 | B87: Хлеб ржано-пшеничный | C87: 60 | D87: 3.96 | E87: 0.72 | F87: 20 | G87: 116 | H87: 60 | I87: 3.96 | J87: 0.72 | K87: 20 | L87: 116
B88: ИТОГО: | C88: =SUM(C81:C87) -> 815 | D88: =SUM(D81:D87) -> 36.64 | E88: =SUM(E81:E87) -> 24.04 | F88: =SUM(F81:F87) -> 98.42 | G88: =SUM(G81:G87) -> 797 | H88: =SUM(H81:H87) -> 905 | I88: =SUM(I81:I87) -> 45.36 | J88: =SUM(J81:J87) -> 29.52 | ... L88: =SUM(L81:L87) -> 926.4
B89: ОБЕД 2 ВАРИАНТ
A90: 42 | B90: Винегрет овощной | H90: 100 | I90: 1.3 | J90: 2.6 | K90: 7.6 | L90: 63
A91: 64 | B91: Суп с клецками и говядиной | H91: 270 | I91: 7.8 | J91: 6.1 | K91: 15.8 | L91: 153.4
A92: 83 | B92: Котлета из трески с маслом | H92: 95 | I92: 14 | J92: 14.2 | K92: 13.5 | L92: 240
A93: 148 | B93: Капуста тушеная | H93: 180 | I93: 4.05 | J93: 5.76 | K93: 16.56 | L93: 142
A94: 300 | B94: Чай с сахаром | H94: 200 | I94: 0.2 | J94: 0 | K94: 9.1 | L94: 36
A95: 1.6 | B95: Хлеб ржано-пшеничный | H95: 60 | I95: 3.96 | J95: 0.72 | K95: 20 | L95: 116
B96: ИТОГО: | H96: =SUM(H90:H95) -> 905 | I96: =SUM(I90:I95) -> 31.31 | J96: =SUM(J90:J95) -> 29.38 | K96: =SUM(K90:K95) -> 82.56 | L96: =SUM(L90:L95) -> 750.4
B97: ПОЛДНИК
B98: Печенье | C98: 100 | D98: 7 | E98: 8 | F98: 67 | G98: 450
A99: 300 | B99: Чай с сахаром | C99: 200 | D99: 0.2 | E99: 0 | F99: 9.1 | G99: 36
B100: ИТОГО: | C100: =SUM(C98:C99) -> 300 | D100: =SUM(D98:D99) -> 7.2 | E100: =SUM(E98:E99) -> 8 | F100: =SUM(F98:F99) -> 76.1 | G100: =SUM(G98:G99) -> 486
B101: День четвертый (четверг 1)
B102: ЗАВТРАК
A103: 227 | B103: Макаронные изделия отварные | C103: 155 | D103: 5.42 | E103: 3.67 | F103: 33.33 | G103: 186 | H103: 230 | I103: 8 | J103: 8.1 | K103: 48.9 | L103: 311
...

Sheet Потребн.
A1: Выполнение потребности в пищевых веществах и энергии на одного ребенка по примерному меню с 01.09.2023 г. (от 7 до 11 лет)
A2: Название пищевых веществ | B2: Суточная норма (100%), гр. | C2: Завтрак (20%), гр. | D2: Завтрак (25%), гр. | E2: Фактическ.выполнен. норм ( 20-25%) в среднем за день, гр | F2: Обед (30%), гр. | G2: Обед (35%), гр. | H2: Фактичес.выполнен.норм (30-35%) в среднем за день, гр | I2: Полдник (10%), гр | J2: Полдник (15%), гр | K2: Фактическ.выполнен. Норм ( 10-15%) в среднем за день, гр | L2: Завтрак, обед, полдник( 60%) | M2: Завтрак, обед, полдник 75%) | N2: Фактическ.выполнен. норм ( 60-75%) в среднем за день, гр
A5: Белки (г) | B5: 77 | C5: =B5*20/100 -> 15.4 | D5: =B5*25/100 -> 19.25 | E5: =БЖУ!D314 -> 0 | F5: =B5*30/100 -> 23.1 | G5: =B5*35/100 -> 26.95 | H5: =БЖУ!D329 -> 0 | I5: =B5*10/100 -> 7.7 | J5: =B5*15/100 -> 11.55 | K5: =БЖУ!D344 -> 0 | L5: =B5*60/100 -> 46.2 | M5: =B5*75/100 -> 57.75 | N5: =SUM(E5,H5,K5) -> 0
A6: Жиры (г) | B6: 79 | C6: =B6*20/100 -> 15.8 | D6: =B6*25/100 -> 19.75 | E6: =БЖУ!E314 -> 0 | F6: =B6*30/100 -> 23.7 | G6: =B6*35/100 -> 27.65 | H6: =БЖУ!E329 -> 0 | I6: =B6*10/100 -> 7.9 | J6: =B6*15/100 -> 11.85 | K6: =БЖУ!E344 -> 0 | L6: =B6*60/100 -> 47.4 | M6: =B6*75/100 -> 59.25 | N6: =SUM(E6,H6,K6) -> 0
A7: Углеводы (г) | B7: 335 | C7: =B7*20/100 -> 67 | D7: =B7*25/100 -> 83.75 | E7: =БЖУ!F314 -> 0 | F7: =B7*30/100 -> 100.5 | G7: =B7*35/100 -> 117.25 | H7: =БЖУ!F329 -> 0 | I7: =B7*10/100 -> 33.5 | J7: =B7*15/100 -> 50.25 | K7: =БЖУ!F344 -> 0 | L7: =B7*60/100 -> 201 | M7: =B7*75/100 -> 251.25 | N7: =SUM(E7,H7,K7) -> 0
A8: Энергет. Ценность (ккал) | B8: 2350 | C8: =B8*20/100 -> 470 | D8: =B8*25/100 -> 587.5 | E8: =БЖУ!G314 -> 0 | F8: =B8*30/100 -> 705 | G8: =B8*35/100 -> 822.5 | H8: =БЖУ!G329 -> 0 | I8: =B8*10/100 -> 235 | J8: =B8*15/100 -> 352.5 | K8: =БЖУ!G344 -> 0 | L8: =B8*60/100 -> 1410 | M8: =B8*75/100 -> 1762.5 | N8: =SUM(E8,H8,K8) -> 0
A9: Витамин С (мг) | B9: 60 | C9: =B9*20/100 -> 12 | D9: =B9*25/100 -> 15 | E9: =бжу!#REF! -> #VALUE! | F9: =B9*30/100 -> 18 | G9: =B9*35/100 -> 21 | H9: =бжу!#REF! -> #VALUE! | I9: =B9*10/100 -> 6 | J9: =B9*15/100 -> 9 | K9: =бжу!#REF! -> #VALUE! | L9: =B9*60/100 -> 36 | M9: =B9*75/100 -> 45 | N9: =SUM(E9,H9,K9) -> #VALUE!
A11: Выполнение потребности в пищевых веществах и энергии на одного ребенка по примерному меню с 01.09.2023 г. (от 12 лет и старше)
A12: Название пищевых веществ | B12: Суточная норма (100%), гр. | C12: Завтрак (20%), гр. | D12: Завтрак (25%), гр. | E12: Фактическ.выполнен. норм ( 20-25%) в среднем за день, гр | F12: Обед (30%), гр. | G12: Обед (35%), гр. | H12: Фактичес.выполнен.норм (30-35%) в среднем за день, гр | I12: Завтрак, обед ( 50%) | J12: Завтрак, обед (60%) | K12: Фактическ.выполнен. норм (50-60%) в среднем за день, гр
A15: Белки (г) | B15: 90 | C15: =B15*20/100 -> 18 | D15: =B15*25/100 -> 22.5 | E15: =БЖУ!I314 -> 0 | F15: =B15*30/100 -> 27 | G15: =B15*35/100 -> 31.5 | H15: =БЖУ!I329 -> 0 | I15: =B15*50/100 -> 45 | J15: =B15*60/100 -> 54 | K15: =SUM(E15,H15) -> 0
A16: Жиры (г) | B16: 92 | C16: =B16*20/100 -> 18.4 | D16: =B16*25/100 -> 23 | E16: =БЖУ!J314 -> 0 | F16: =B16*30/100 -> 27.6 | G16: =B16*35/100 -> 32.2 | H16: =БЖУ!J329 -> 0 | I16: =B16*50/100 -> 46 | J16: =B16*60/100 -> 55.2 | K16: =SUM(E16,H16) -> 0
A17: Углеводы (г) | B17: 383 | C17: =B17*20/100 -> 76.6 | D17: =B17*25/100 -> 95.75 | E17: =БЖУ!K314 -> 0 | F17: =B17*30/100 -> 114.9 | G17: =B17*35/100 -> 134.05 | H17: =БЖУ!K329 -> 0 | I17: =B17*50/100 -> 191.5 | J17: =B17*60/100 -> 229.8 | K17: =SUM(E17,H17) -> 0
A18: Энергет. Ценность (ккал) | B18: 2720 | C18: =B18*20/100 -> 544 | D18: =B18*25/100 -> 680 | E18: =БЖУ!L314 -> 0 | F18: =B18*30/100 -> 816 | G18: =B18*35/100 -> 952 | H18: =БЖУ!L329 -> 0 | I18: =B18*50/100 -> 1360 | J18: =B18*60/100 -> 1632 | K18: =SUM(E18,H18) -> 0
A19: Витамин С (мг) | B19: 70 | C19: =B19*20/100 -> 14 | D19: =B19*25/100 -> 17.5 | E19: =бжу!#REF! -> #VALUE! | F19: =B19*30/100 -> 21 | G19: =B19*35/100 -> 24.5 | H19: =бжу!#REF! -> #VALUE! | I19: =B19*50/100 -> 35 | J19: =B19*60/100 -> 42 | K19: =SUM(E19,H19) -> #VALUE!
A21: Технолог МП"КШП" | C21: _______________ | F21: Меняйкина М.В.
A23: Калькулятор МП "КШП" ______________ | F23: Бирюкова Н.Ю.

Sheet Лист1
